BEGIN:VCALENDAR
VERSION:2.0
PRODID:-//Graduate and Professional Student Senate - ECPv6.15.17//NONSGML v1.0//EN
CALSCALE:GREGORIAN
METHOD:PUBLISH
X-WR-CALNAME:Graduate and Professional Student Senate
X-ORIGINAL-URL:https://www.gpss.uw.edu
X-WR-CALDESC:Events for Graduate and Professional Student Senate
REFRESH-INTERVAL;VALUE=DURATION:PT1H
X-Robots-Tag:noindex
X-PUBLISHED-TTL:PT1H
BEGIN:VTIMEZONE
TZID:UTC
BEGIN:STANDARD
TZOFFSETFROM:+0000
TZOFFSETTO:+0000
TZNAME:UTC
DTSTART:20240101T000000
END:STANDARD
END:VTIMEZONE
BEGIN:VEVENT
DTSTART;TZID=UTC:20250219T160000
DTEND;TZID=UTC:20250219T170000
DTSTAMP:20260424T003954
CREATED:20250219T042122Z
LAST-MODIFIED:20250219T042122Z
UID:560-1739980800-1739984400@www.gpss.uw.edu
SUMMARY:Generative AI in Higher Education
DESCRIPTION:
URL:https://www.gpss.uw.edu/event/generative-ai-in-higher-education/
LOCATION:HUB 314
END:VEVENT
END:VCALENDAR