BEGIN:VCALENDAR
VERSION:2.0
PRODID:-//Graduate and Professional Student Senate - ECPv6.15.17//NONSGML v1.0//EN
CALSCALE:GREGORIAN
METHOD:PUBLISH
X-ORIGINAL-URL:https://www.gpss.uw.edu
X-WR-CALDESC:Events for Graduate and Professional Student Senate
REFRESH-INTERVAL;VALUE=DURATION:PT1H
X-Robots-Tag:noindex
X-PUBLISHED-TTL:PT1H
BEGIN:VTIMEZONE
TZID:UTC
BEGIN:STANDARD
TZOFFSETFROM:+0000
TZOFFSETTO:+0000
TZNAME:UTC
DTSTART:20240101T000000
END:STANDARD
END:VTIMEZONE
BEGIN:VEVENT
DTSTART;TZID=UTC:20250427T131000
DTEND;TZID=UTC:20250427T170000
DTSTAMP:20260423T210224
CREATED:20250405T203415Z
LAST-MODIFIED:20250405T203415Z
UID:985-1745759400-1745773200@www.gpss.uw.edu
SUMMARY:UW GPSS Graduate Student Day @ Mariners vs. Marlins
DESCRIPTION:UW GPSS is hosting a graduate student Mariners Day at T-Mobile Park Seattle to watch the Mariners take on the Miami Marlins. GPSS is extending discounted tickets ($18 main level seats) to all students\, staff\, and faculty at the UW Graduate School. Tickets are available on a first-come\, first-served basis here.  
URL:https://www.gpss.uw.edu/event/uw-gpss-graduate-student-day-mariners-vs-marlins/
LOCATION:T-Mobile Park Seattle
END:VEVENT
END:VCALENDAR