BEGIN:VCALENDAR
VERSION:2.0
PRODID:-//Graduate and Professional Student Senate - ECPv6.15.17//NONSGML v1.0//EN
CALSCALE:GREGORIAN
METHOD:PUBLISH
X-ORIGINAL-URL:https://www.gpss.uw.edu
X-WR-CALDESC:Events for Graduate and Professional Student Senate
REFRESH-INTERVAL;VALUE=DURATION:PT1H
X-Robots-Tag:noindex
X-PUBLISHED-TTL:PT1H
BEGIN:VTIMEZONE
TZID:America/Los_Angeles
BEGIN:DAYLIGHT
TZOFFSETFROM:-0800
TZOFFSETTO:-0700
TZNAME:PDT
DTSTART:20240310T100000
END:DAYLIGHT
BEGIN:STANDARD
TZOFFSETFROM:-0700
TZOFFSETTO:-0800
TZNAME:PST
DTSTART:20241103T090000
END:STANDARD
BEGIN:DAYLIGHT
TZOFFSETFROM:-0800
TZOFFSETTO:-0700
TZNAME:PDT
DTSTART:20250309T100000
END:DAYLIGHT
BEGIN:STANDARD
TZOFFSETFROM:-0700
TZOFFSETTO:-0800
TZNAME:PST
DTSTART:20251102T090000
END:STANDARD
BEGIN:DAYLIGHT
TZOFFSETFROM:-0800
TZOFFSETTO:-0700
TZNAME:PDT
DTSTART:20260308T100000
END:DAYLIGHT
BEGIN:STANDARD
TZOFFSETFROM:-0700
TZOFFSETTO:-0800
TZNAME:PST
DTSTART:20261101T090000
END:STANDARD
BEGIN:DAYLIGHT
TZOFFSETFROM:-0800
TZOFFSETTO:-0700
TZNAME:PDT
DTSTART:20270314T100000
END:DAYLIGHT
BEGIN:STANDARD
TZOFFSETFROM:-0700
TZOFFSETTO:-0800
TZNAME:PST
DTSTART:20271107T090000
END:STANDARD
END:VTIMEZONE
BEGIN:VTIMEZONE
TZID:UTC
BEGIN:STANDARD
TZOFFSETFROM:+0000
TZOFFSETTO:+0000
TZNAME:UTC
DTSTART:20240101T000000
END:STANDARD
END:VTIMEZONE
BEGIN:VEVENT
DTSTART;TZID=America/Los_Angeles:20260114T173000
DTEND;TZID=America/Los_Angeles:20260114T190000
DTSTAMP:20260423T135719
CREATED:20260110T005843Z
LAST-MODIFIED:20260306T014934Z
UID:1768-1768411800-1768417200@www.gpss.uw.edu
SUMMARY:Special Senate Meeting of January 14th\, 2026
DESCRIPTION:As resolved during the December 3rd\, 2025 senate meeting\, this special meeting is called with the aim of electing a new Vice President of Administration. Please see the special elections guide (PDF).\n \n\nOnline Meeting Information\nZoom (Video / Audio)\n\nMeeting ID: 996 1689 7373\nDial-in (US): +1 206 337 9723\nJoin the Zoom meeting\nZoom link (copy/paste): https://washington.zoom.us/j/99616897373\n\nLive Captioning (CART)\n\nAccess live captions (StreamText)\nCART link (copy/paste): https://www.streamtext.net/player?event=UWGPSS.Senate\n\n\nAgenda\n\nCall to Order (Sponsor: Ryan Wicklund\, Time: 1 min.) [ACTION]\nApproval of Agenda (Sponsor: Ryan Wicklund\, Time: 1 min.) [ACTION]\nApproval of Minutes (Sponsor: Ryan Wicklund\, Time: 1 min.) [ACTION]\nLand Acknowledgement (Sponsor: Pavandeep Josan\, Time: 2 min.) [INFORMATION]\nAnnouncements and Public Comments (Sponsor: Ryan Wicklund\, Time: 7 min.) [INFORMATION]\nSpecial Election for Vice President of Administration (Sponsor: Ryan Wicklund\, Time: 1 hr and 15 min.) [ACTION]\n\nSee Special Elections Guide: VP of Administration (PDF)\n\n\nBrief Survey of Graduate Student Issues (Sponsor: Ryan Wicklund\, Time: 10 min.) [INFORMATION]\nAdjournment (Sponsor: Ryan Wicklund\, Time: 1 min.) [ACTION]\n\nMeeting Recap\n\nThere were six nominations for VP of Administration. Following remarks from the candidates and an opportunity for the senators to ask questions\, voting took place on the floor.\nDespite valiant efforts by the Elections Committee to tabulate the votes that night\, the final results had to be postponed until the next day: Maitri Karia is the new Vice President of Administration.\nJuan Mora shared about the upcoming Graduate Research Symposium. The CFP deadline is May 4th\, 2026.\nRiley Talamantes shared that the Special Allocations funding opportunity is open now. RSOs are encouraged to apply. \nRyan Wicklund shared about the Huskies on the Hill deadline being extended. MJ Mencias shared further information about the opportunity.\n\nPrevious Senate Meeting\n\nSenate Meeting of December 3rd\, 2025\n\nNext Senate Meeting\n\nSenate Meeting of January 28th\, 2026
URL:https://www.gpss.uw.edu/event/senate-meeting-20260114/
LOCATION:Husky Union Building (HUB) 337
CATEGORIES:Senate Meeting
ATTACH;FMTTYPE=image/jpeg:https://www.gpss.uw.edu/wp-content/uploads/2025/11/voting_featured-1.jpeg
END:VEVENT
BEGIN:VEVENT
DTSTART;TZID=America/Los_Angeles:20251205T190000
DTEND;TZID=America/Los_Angeles:20251205T220000
DTSTAMP:20260423T135719
CREATED:20251116T182253Z
LAST-MODIFIED:20251125T224702Z
UID:1638-1764961200-1764972000@www.gpss.uw.edu
SUMMARY:Masquerade Ball
DESCRIPTION:The Masquerade Ball is open to all graduate and professional students. Food and drink will be provided. The event is for those 21 years and older. Alcohol available only to those with a government-issued ID. The dress code is formal\, and masks are encouraged!
URL:https://www.gpss.uw.edu/event/20251205-masquerade-ball/
LOCATION:Mary Gates Commons
ATTACH;FMTTYPE=image/png:https://www.gpss.uw.edu/wp-content/uploads/2025/11/20251205_masquerade-ball_1280x720.png
END:VEVENT
BEGIN:VEVENT
DTSTART;TZID=America/Los_Angeles:20251203T173000
DTEND;TZID=America/Los_Angeles:20251203T203000
DTSTAMP:20260423T135719
CREATED:20251013T092207Z
LAST-MODIFIED:20260306T012942Z
UID:1494-1764783000-1764793800@www.gpss.uw.edu
SUMMARY:Senate Meeting of December 3rd\, 2025
DESCRIPTION:The third senate meeting for the Autumn 2025 quarter will take place on Wednesday\, December 3rd from 5:30pm to 8:30pm in Husky Union Building room 332 and online on Zoom. Pizza and a selection of soft drinks will be provided.\n \nZoom: https://washington.zoom.us/j/93955233603 \nCART: https://www.streamtext.net/player?event=UWGPSS.Senate \nAgenda\n\nCall to Order (Sponsor: Ryan Wicklund\, Time: 1 min.) [ACTION]\nApproval of Agenda (Sponsor: Ryan Wicklund\, Time: 1 min.) [ACTION]\nApproval of Minutes (Sponsor: Ryan Wicklund\, Time: 1 min.) [ACTION]\nLand Acknowledgement (Sponsor: Pavandeep Josan\, Time: 2 min.) [INFORMATION]\nAnnouncements and Public Comments (Sponsor: Ryan Wicklund\, Time: 7 min.) [INFORMATION]\nElections Committee Appointment (Sponsor: Pavandeep Josan. Time: 10 min.)\nLegislative Agenda Amendment (Sponsor: Annika Peterson. Time: 10 min.)\nSuspending the Bylaws for Budget Timeline (Sponsor: Riley Talamantes\, Time: 5 min.) [ACTION]\nIcebreaker (Sponsor: Tricia Jenkins\, Time: 7 min.) [INFORMATION]\nA Joint Resolution for a Graduate and Undergraduate Student Regent (Second/ Third Reading) (Sponsor: Ryan Wicklund\, Erick Jacobsen\, Time: 5 min.) [ACTION]\nA Resolution Against the Dissolution of the Executive Master’s in Healthcare Administration Program (First/Second/Third Reading) (Sponsor: Laura Alford\, Time: 10 min.) [INFROMATION]\nSenator of the Month (Sponsor: Pavandeep Josan\, Time: 5 min.) [INFORMATION]\nLiaison of the Month (Sponsor: Ryan Wicklund\, Time: 5 min.) [INFORMATION]\nAdjournment (Sponsor: Ryan Wicklund\, Time: 1 min.) [ACTION]\n\nMeeting Recap\n\nAyush Goyal shared an announcement about Green Lake Elementary School’s Holiday Tree Sale fundraiser (November 28th to December 20th). See the flier in meeting slides.\nRiley Talamantes shared an announcement about the GPSS Masquerade Ball happening on December 5th.\nAnnika Peterson shared about Huskies on the Hill event happening on February 10th\, 2026. Lunch and transportation to Olympia will be provided.\nRiley Talamantes shared about the department allocations opening on Friday\, December 5th\, 2025. The application is available on the GPSS website.\nRyan Wicklund shared a special elections announcement: Noah Hough\, the VP of Administration\, is resigning. Any graduate student at UW can run for the vacancy\, but the selection will be done by a vote of the senate. Special elections will be held on January 14th\, 2026 at 5:30pm. \nKylie Jones was unanimously approved as the final at-large senator for the Elections Committee.\n\nA Joint Resolution for a Graduate and Undergraduate Student Regent was approved.\nA Resolution Against the Dissolution of the Executive Master’s in Healthcare Administration Program was approved.\nSophia Chima was recognized as the GPSS Senator of the Month for October 2025.\nBintang Wicaksana and Sheila Gray were recognized as the GPSS Liaison of the Month for the months of October 2025 and November 2025\, respectively.\n\nPrevious Senate Meeting Recaps\n\nNovember 19th meeting was canceled.\nFor October 22nd meeting recap\, see the event page for Senate Meeting of October 22nd\, 2025
URL:https://www.gpss.uw.edu/event/senate-meeting-20251203/
CATEGORIES:Senate Meeting
ATTACH;FMTTYPE=image/jpeg:https://www.gpss.uw.edu/wp-content/uploads/2025/11/voting_featured-1.jpeg
END:VEVENT
BEGIN:VEVENT
DTSTART;TZID=America/Los_Angeles:20251119T173000
DTEND;TZID=America/Los_Angeles:20251119T200000
DTSTAMP:20260423T135719
CREATED:20251013T090610Z
LAST-MODIFIED:20251203T014830Z
UID:1486-1763573400-1763582400@www.gpss.uw.edu
SUMMARY:Senate Meeting of November 19th\, 2025
DESCRIPTION:Zoom: https://washington.zoom.us/j/93955233603
URL:https://www.gpss.uw.edu/event/senate-meeting-20251119/
CATEGORIES:Senate Meeting
END:VEVENT
BEGIN:VEVENT
DTSTART;TZID=America/Los_Angeles:20251105T173000
DTEND;TZID=America/Los_Angeles:20251105T203000
DTSTAMP:20260423T135719
CREATED:20260306T010654Z
LAST-MODIFIED:20260306T011105Z
UID:2089-1762363800-1762374600@www.gpss.uw.edu
SUMMARY:Senate Meeting of November 5th\, 2025
DESCRIPTION:Location\n\nPhysical Location: HUB 332\n https://washington.zoom.us/j/93955233603\nZoom Meeting ID: 939 5523 3603\nZoom Dial-In: +1-206-337-9723\nCART: https://www.streamtext.net/player?event=UWGPSS.Senate\n\nAgenda\nRecap of the Meeting
URL:https://www.gpss.uw.edu/event/senate-meeting-20251105/
LOCATION:HUB 332
CATEGORIES:Senate Meeting
END:VEVENT
BEGIN:VEVENT
DTSTART;TZID=America/Los_Angeles:20251030T170000
DTEND;TZID=America/Los_Angeles:20251030T200000
DTSTAMP:20260423T135719
CREATED:20251016T052512Z
LAST-MODIFIED:20251016T052549Z
UID:1517-1761843600-1761854400@www.gpss.uw.edu
SUMMARY:GPSS Halloween Speakeasy
DESCRIPTION:Join GPSS for our Halloween Speakeasy. Enjoy games\, snacks\, and drinks (21+ with ID) while connecting with fellow grad students. Please fill out the RSVP form. \nCostumes encouraged and there might be a prize for the best one!
URL:https://www.gpss.uw.edu/event/gpss-halloween-speakeasy-20251030/
LOCATION:HUB Games Room
CATEGORIES:Social
ATTACH;FMTTYPE=image/png:https://www.gpss.uw.edu/wp-content/uploads/2025/10/2025-10-30-GPSS-Halloween-Speakeasy-Event-1080px.png
END:VEVENT
BEGIN:VEVENT
DTSTART;TZID=America/Los_Angeles:20251022T173000
DTEND;TZID=America/Los_Angeles:20251022T203000
DTSTAMP:20260423T135719
CREATED:20251013T090323Z
LAST-MODIFIED:20260306T011242Z
UID:1482-1761154200-1761165000@www.gpss.uw.edu
SUMMARY:Senate Meeting of October 22nd\, 2025
DESCRIPTION:Location\n\nPhysical Location: HUB 332\n https://washington.zoom.us/j/93955233603\nZoom Meeting ID: 939 5523 3603\nZoom Dial-In: +1-206-337-9723\nCART: https://www.streamtext.net/player?event=UWGPSS.Senate\n\nAgenda\n\nCall to Order (Sponsor: Ryan Wicklund\, Time: 1 min.) [ACTION]\nApproval of Agenda (Sponsor: Ryan Wicklund\, Time: 1 min.) [ACTION]\nApproval of Minutes (Sponsor: Ryan Wicklund\, Time: 1 min.) [ACTION]\nLand Acknowledgement (Sponsor: Pavandeep Josan\, Time: 2 min.) [INFORMATION]\nAnnouncements and Public Comments (Sponsor: Ryan Wicklund\, Time: 7 min.) [INFORMATION]\nUniversity of Washington Alumni Associations (UWAA) (Sponsor: Noah Hough\, Time: 10 min.) [INFORMATION]\nDiversity Leadership Conference Updates (Sponsor: Pavandeep Josan\, Time: 5 min.) [INFORMATION]\nCommittee Formation (Sponsor: Ryan Wicklund Time: 20 min.) [POSSIBLE ACTION]\nExecutive Senator Positions (Sponsor: Noah Hough\, Time: 3 min.) [INFORMATION]\nExecutive Senator Election (Sponsor: Ryan Wicklund\, Time: 20 min.) [POSSIBLE ACTION]\nWashington State Student Association (WSA) (Sponsor: Annika Peterson\, Ryan Wicklund\, Time: 5 min.) [INFORMATION]\nUnited States Student Associations (USSA) (Sponsor: Annika Peterson\, Time: 5 min.) [INFORMATION] \nGPSS Budget Report (Sponsor: Riley Talamantes\, Time: 8 min.) [INFORMATION]\nLegislative Agenda Draft (First/Second Reading) (Sponsor: Annika Peterson\, Time: 15 min) [ACTION] \nResolution on Installation of Bidets and Hand Showers in UW Campus Restrooms to Advance of Equity\, Accessibility\, and Inclusion (First Reading) (Sponsor: M A Tariq\, Time: 5 min.) [INFORMATION]\nSenator of the Month (Sponsor: Pavandeep Josan\, Time: 5 min.) [INFORMATION]\nSenate Giveaway (Sponsor: Juan Mora\, Time: 5 min.) [INFORMATION]\nAdjournment (Sponsor: Ryan Wicklund\, Time: 1 min.)  [ACTION] \n\nTotal expected time: 114 minutes \nRecap of the Meeting\n\nAyush Goyal shared an announcement about the Dempsey Startup Competition (deadline: November 18th). Emilio Castanedo shared an announcement about the “Take Up Space: Race & Public Policy Symposium” at the Evans School.\nRyan Wicklund introduced the Graduate School Dean Joy Williamson-Lott. She is historian of education by training and has been in the dean position since 2019. She shared about the work of the Graduate School.\n\nAll degree programs except MD\, PharmD\, DDS\, and JD are under the umbrella of the Graduate School.\n The Graduate School is responsible for everything from admissions through graduations for graduate students\, including tuition waivers and programming events.\nThe Graduate School also reviews all graduate programs every ten years.\nThe Dean has monthly office hours\, to which we are all welcome. The next one is November 10th at 1pm.\nWhile the programs are best equipped with guiding students about the specific process of earning the degree and the local situation\, the Dean is interested in hearing about how the graduate education at UW works as a whole. She cannot problem-solve very local concerns\, however\, nor undo decisions made by the student’s program.\nGraduate Student Research Resilience Fund is raising money to help support Ph.D. students whose Principal Investigators (PIs) have lost federal funding. The funding is applied for by the student’s program.\n\n\nNatasha <?>\, Jack <?>\, and Shannon Bailie gave a presentation about the proposed Student Health Fee (SHF) of $125 per UW-Seattle student per quarter.\n\nThe fee is spearheaded by ASUW.\nThe fee is not health insurance\, but rather a shared investment that would support students having basic services available on campus.\nCurrently students pay $175 Student Activities Fee (SAF) per quarter\, but only $69 of that goes to fund Counseling Center\, Husky Health\, and LiveWell. The other $106 go to fund everything else from the Food Pantry to GPSS.\nThe fee will be voted on by the student body next week.\nRiley Talamantes further explained the impact that the institution of the SHF would have on GPSS and other SAF-funded units.\nThere is information online about the specific programs that SAF funds.\n\n\nThe Senate voted to elect senators to the Elections Committee and the Judicial Committee.\nAnnika Peterson presented the 2025-2026 Legislative Agenda for the second reading\, and the agenda was unanimously approved.\nPavandeep Josan presented for the second reading the Resolution on Installation of Bidets and Hand Showers in UW Campus Restrooms to Advance of Equity\, Accessibility\, and Inclusion. Following a discussion by the senate body\, the resolution was approved.\nRyan Wicklund presented for the first reading the Joint Resolution (with ASUW) for a Graduate and Undergraduate Student Regent.
URL:https://www.gpss.uw.edu/event/senate-meeting-20251022/
LOCATION:HUB 332
CATEGORIES:Senate Meeting
END:VEVENT
BEGIN:VEVENT
DTSTART;TZID=UTC:20250530T180000
DTEND;TZID=UTC:20250530T200000
DTSTAMP:20260423T135719
CREATED:20250521T032101Z
LAST-MODIFIED:20250521T032147Z
UID:1217-1748628000-1748635200@www.gpss.uw.edu
SUMMARY:Paint and Sip
DESCRIPTION:Join us at our Paint & Sip Night on Friday\, May 30th\, from 6:00 PM – 8:00 PM in HUB 214 for a night of creativity\, good vibes\, and FREE drinks (21+ with ID)! 🍷🎨 \nAll painting supplies will be provided!\nRSVP Link: Click Here
URL:https://www.gpss.uw.edu/event/paint-and-sip/
LOCATION:HUB 214
END:VEVENT
BEGIN:VEVENT
DTSTART;TZID=UTC:20250528T150000
DTEND;TZID=UTC:20250528T170000
DTSTAMP:20260423T135719
CREATED:20250521T032440Z
LAST-MODIFIED:20250521T032440Z
UID:1223-1748444400-1748451600@www.gpss.uw.edu
SUMMARY:Happy Hour
DESCRIPTION:Join us Wednesday May 28th from 3:00pm-5:00pm in HUB Ballroom for GPSS Appreciation Happy Hour for Graduate Program Advisors\, Student Activities Office (SAO) Advisors\, GPSS senators and Graduate students presenting at GPSS Research symposium. \nRSVP required!\nRSVP Link: Click Here \n  \n 
URL:https://www.gpss.uw.edu/event/happy-hour/
LOCATION:HUB Ballroom (2nd Floor)​
END:VEVENT
BEGIN:VEVENT
DTSTART;TZID=UTC:20250528T120000
DTEND;TZID=UTC:20250528T160000
DTSTAMP:20260423T135719
CREATED:20250320T163921Z
LAST-MODIFIED:20250521T031437Z
UID:876-1748433600-1748448000@www.gpss.uw.edu
SUMMARY:Interdisciplinary Graduate Research Symposium
DESCRIPTION:  \nSchedule: \n\n12:00 – 12:30 pm Poster Board Check-In/Set-Up\n12:45 pm Welcome from GPSS\, and introductions from UW Leadership.\n1:00 pm Student Lightning Talks/3 minute Thesis\n2:00 pm Transition to Poster Board Session/Light Refreshments\n2:15 pm Poster Session Begins\n3:00 pm GPSS Networking/Happy Hour Begins\n4:00 pm Closing Remarks & Postering Ends (from GPSS)\n5:00 pm Networking & Happy Hour Concludes
URL:https://www.gpss.uw.edu/event/interdisciplinary-graduate-research-symposium/
LOCATION:HUB Ballroom (2nd Floor)​
END:VEVENT
BEGIN:VEVENT
DTSTART;TZID=UTC:20250522T140000
DTEND;TZID=UTC:20250522T153000
DTSTAMP:20260423T135719
CREATED:20250521T031722Z
LAST-MODIFIED:20250521T031722Z
UID:1211-1747922400-1747927800@www.gpss.uw.edu
SUMMARY:Personal Safety and Awareness Workshop
DESCRIPTION:Join us for a two-part event focused on empowerment and preparedness. The Personal Safety and Awareness Workshop is intended to instill confidence and reassurance when navigating life on our UW campus\, the Ave\, and the surrounding areas. We will understand how to employ situation-based measures to lower your vulnerability\, recognize proper responses to potential threats\, and enhance your perception to potential concerns. \nIn the second half\, try out a beginner-friendly\, contactless boxing session\, led by women from the national champion boxing team at the UW. No experience needed\, just come ready to move and feel empowered! \nWe will also have protein shakes for everyone! \nPlease feel free to contact us at gpssvpei@uw.edu for any questions or concerns. \nRSVP Link : Click Here
URL:https://www.gpss.uw.edu/event/personal-safety-and-awareness-workshop/
LOCATION:IMA Mat Room B
END:VEVENT
BEGIN:VEVENT
DTSTART;TZID=UTC:20250430T160000
DTEND;TZID=UTC:20250430T170000
DTSTAMP:20260423T135719
CREATED:20250417T024440Z
LAST-MODIFIED:20250417T024440Z
UID:1025-1746028800-1746032400@www.gpss.uw.edu
SUMMARY:Balancing The Unknown: Mindful Tools for Uncertain Times
DESCRIPTION:
URL:https://www.gpss.uw.edu/event/balancing-the-unknown-mindful-tools-for-uncertain-times/
LOCATION:HUB 340
END:VEVENT
BEGIN:VEVENT
DTSTART;TZID=UTC:20250427T131000
DTEND;TZID=UTC:20250427T170000
DTSTAMP:20260423T135719
CREATED:20250405T203415Z
LAST-MODIFIED:20250405T203415Z
UID:985-1745759400-1745773200@www.gpss.uw.edu
SUMMARY:UW GPSS Graduate Student Day @ Mariners vs. Marlins
DESCRIPTION:UW GPSS is hosting a graduate student Mariners Day at T-Mobile Park Seattle to watch the Mariners take on the Miami Marlins. GPSS is extending discounted tickets ($18 main level seats) to all students\, staff\, and faculty at the UW Graduate School. Tickets are available on a first-come\, first-served basis here.  
URL:https://www.gpss.uw.edu/event/uw-gpss-graduate-student-day-mariners-vs-marlins/
LOCATION:T-Mobile Park Seattle
END:VEVENT
BEGIN:VEVENT
DTSTART;TZID=UTC:20250425T170000
DTEND;TZID=UTC:20250425T190000
DTSTAMP:20260423T135719
CREATED:20250315T025610Z
LAST-MODIFIED:20250417T024603Z
UID:849-1745600400-1745607600@www.gpss.uw.edu
SUMMARY:Karaoke Night!!
DESCRIPTION:  \nJoin us for a karaoke night! Free Food and drinks will be provided!  
URL:https://www.gpss.uw.edu/event/karaoke-night/
LOCATION:HUB 314
END:VEVENT
BEGIN:VEVENT
DTSTART;TZID=UTC:20250423T140000
DTEND;TZID=UTC:20250423T150000
DTSTAMP:20260423T135719
CREATED:20250405T203217Z
LAST-MODIFIED:20250405T203217Z
UID:982-1745416800-1745420400@www.gpss.uw.edu
SUMMARY:Relationships\, Conflict\, and Communication: A GPSS Diversity Workshop
DESCRIPTION:GPSS is happy to welcome you to an interactive workshop about what fosters a healthy relationship! Please join us on Wednesday\, April 23rd at 2:00pm in HUB 337 to explore skills that build trust\, connection\, and mutual understanding. Inclusive food and drinks will be provided; please RSVP to receive catering and email gpssvpei@uw.edu for questions or accommodation.  
URL:https://www.gpss.uw.edu/event/relationships-conflict-and-communication-a-gpss-diversity-workshop/
LOCATION:HUB 337
END:VEVENT
BEGIN:VEVENT
DTSTART;TZID=UTC:20250418T150000
DTEND;TZID=UTC:20250418T160000
DTSTAMP:20260423T135719
CREATED:20250315T025831Z
LAST-MODIFIED:20250315T025831Z
UID:852-1744988400-1744992000@www.gpss.uw.edu
SUMMARY:Nutrition Workshop
DESCRIPTION:Join us for a Nutrition Workshop Learn how to maintain a healthy lifestyle in grad school with practical tips on nutrition\, balance\, and well-being.
URL:https://www.gpss.uw.edu/event/nutrition-workshop/
LOCATION:HUB 214
END:VEVENT
BEGIN:VEVENT
DTSTART;TZID=UTC:20250417T160000
DTEND;TZID=UTC:20250417T170000
DTSTAMP:20260423T135719
CREATED:20250415T033310Z
LAST-MODIFIED:20250417T024509Z
UID:1009-1744905600-1744909200@www.gpss.uw.edu
SUMMARY:GPSS Yoga Class
DESCRIPTION:Join us for a FREE  Yoga session to de-stress\, stretch\, and find balance. Free smoothies will be provided after class! RSVP required: Click Here
URL:https://www.gpss.uw.edu/event/gpss-yoga-class/
LOCATION:IMA Studio 316
END:VEVENT
BEGIN:VEVENT
DTSTART;TZID=UTC:20250410T120000
DTEND;TZID=UTC:20250410T140000
DTSTAMP:20260423T135719
CREATED:20250320T164110Z
LAST-MODIFIED:20250320T164110Z
UID:879-1744286400-1744293600@www.gpss.uw.edu
SUMMARY:Cultural Showcase
DESCRIPTION:
URL:https://www.gpss.uw.edu/event/cultural-showcase/
LOCATION:Intellectual House ​
END:VEVENT
BEGIN:VEVENT
DTSTART;TZID=UTC:20250407T170000
DTEND;TZID=UTC:20250407T180000
DTSTAMP:20260423T135719
CREATED:20250402T154800Z
LAST-MODIFIED:20250403T002906Z
UID:962-1744045200-1744048800@www.gpss.uw.edu
SUMMARY:Speed Friending
DESCRIPTION:GPSS and CIRCLE are thrilled to host speed friending as the first event from GPSS x CIRCLE. \nPlease join us over snacks and beverages before our senate meeting to connect with fellow graduate and professional students! 
URL:https://www.gpss.uw.edu/event/speed-friending/
LOCATION:HUB 314
END:VEVENT
BEGIN:VEVENT
DTSTART;TZID=UTC:20250404T180000
DTEND;TZID=UTC:20250404T200000
DTSTAMP:20260423T135719
CREATED:20250315T025232Z
LAST-MODIFIED:20250315T025232Z
UID:845-1743789600-1743796800@www.gpss.uw.edu
SUMMARY:Paint & Sip Night
DESCRIPTION:  \nJoin us at our Paint & Sip Night Event\, for a night of creativity\, good vibes\, and FREE drinks (21+ with ID)! 🍷🎨 \nAll painting supplies will be provided!
URL:https://www.gpss.uw.edu/event/paint-sip-night/
LOCATION:HUB 314
END:VEVENT
BEGIN:VEVENT
DTSTART;TZID=UTC:20250312T160000
DTEND;TZID=UTC:20250312T170000
DTSTAMP:20260423T135719
CREATED:20250220T090128Z
LAST-MODIFIED:20250220T090218Z
UID:712-1741795200-1741798800@www.gpss.uw.edu
SUMMARY:Navigating Hiring Freeze
DESCRIPTION:
URL:https://www.gpss.uw.edu/event/navigating-hiring-freeze/
LOCATION:HUB 314
END:VEVENT
BEGIN:VEVENT
DTSTART;TZID=UTC:20250310T150000
DTEND;TZID=UTC:20250310T170000
DTSTAMP:20260423T135719
CREATED:20250303T143134Z
LAST-MODIFIED:20250303T143134Z
UID:815-1741618800-1741626000@www.gpss.uw.edu
SUMMARY:GPSS Study Hours
DESCRIPTION:Join us for Study Hours with lofi music\, hot chocolate\, and snacks at the GPSS office (HUB 314) on Monday March 10th from 3-5 PM!
URL:https://www.gpss.uw.edu/event/gpss-study-hours/
LOCATION:HUB 314
END:VEVENT
BEGIN:VEVENT
DTSTART;TZID=UTC:20250306T110000
DTEND;TZID=UTC:20250306T130000
DTSTAMP:20260423T135719
CREATED:20250303T143523Z
LAST-MODIFIED:20250303T143523Z
UID:819-1741258800-1741266000@www.gpss.uw.edu
SUMMARY:GPSS Museum Day
DESCRIPTION:Join us for a tour of the seattle art museum on March 6th. Meet at the University of Washington Link Station at 11 AM for a guided tour of the museum starting at 11:30am. Free admission & no rsvp required!
URL:https://www.gpss.uw.edu/event/gpss-museum-day/
LOCATION:University of Washington Link Station
END:VEVENT
BEGIN:VEVENT
DTSTART;TZID=UTC:20250226T160000
DTEND;TZID=UTC:20250226T170000
DTSTAMP:20260423T135719
CREATED:20250219T041527Z
LAST-MODIFIED:20250220T072904Z
UID:548-1740585600-1740589200@www.gpss.uw.edu
SUMMARY:Breaking Barriers & Elevating Black Voices
DESCRIPTION:
URL:https://www.gpss.uw.edu/event/breaking-barriers-elevating-black-voices/
LOCATION:HUB 216
END:VEVENT
BEGIN:VEVENT
DTSTART;TZID=UTC:20250225T173000
DTEND;TZID=UTC:20250225T190000
DTSTAMP:20260423T135719
CREATED:20250219T041942Z
LAST-MODIFIED:20250220T073538Z
UID:554-1740504600-1740510000@www.gpss.uw.edu
SUMMARY:Grad Student COVID Conscious Gathering
DESCRIPTION:
URL:https://www.gpss.uw.edu/event/grad-student-covid-conscious-gathering/
LOCATION:Q Center HUB 315
END:VEVENT
BEGIN:VEVENT
DTSTART;TZID=UTC:20250224T150000
DTEND;TZID=UTC:20250224T170000
DTSTAMP:20260423T135719
CREATED:20250204T091555Z
LAST-MODIFIED:20250220T072619Z
UID:538-1740409200-1740416400@www.gpss.uw.edu
SUMMARY:Knitting & Crochet Workshop
DESCRIPTION:
URL:https://www.gpss.uw.edu/event/knitting-crochet-workshop/
LOCATION:HUB 314
END:VEVENT
BEGIN:VEVENT
DTSTART;TZID=UTC:20250219T160000
DTEND;TZID=UTC:20250219T170000
DTSTAMP:20260423T135719
CREATED:20250219T042122Z
LAST-MODIFIED:20250219T042122Z
UID:560-1739980800-1739984400@www.gpss.uw.edu
SUMMARY:Generative AI in Higher Education
DESCRIPTION:
URL:https://www.gpss.uw.edu/event/generative-ai-in-higher-education/
LOCATION:HUB 314
END:VEVENT
BEGIN:VEVENT
DTSTART;TZID=UTC:20250214T130000
DTEND;TZID=UTC:20250214T150000
DTSTAMP:20260423T135719
CREATED:20250204T091718Z
LAST-MODIFIED:20250204T091718Z
UID:541-1739538000-1739545200@www.gpss.uw.edu
SUMMARY:Puppy Love
DESCRIPTION:
URL:https://www.gpss.uw.edu/event/puppy-love/
LOCATION:HUB 334
END:VEVENT
BEGIN:VEVENT
DTSTART;TZID=UTC:20250212T160000
DTEND;TZID=UTC:20250212T170000
DTSTAMP:20260423T135719
CREATED:20250204T091300Z
LAST-MODIFIED:20250204T091304Z
UID:530-1739376000-1739379600@www.gpss.uw.edu
SUMMARY:Mandala Art Workshop
DESCRIPTION:
URL:https://www.gpss.uw.edu/event/mandala-art-workshop/
LOCATION:HUB 314
END:VEVENT
BEGIN:VEVENT
DTSTART;TZID=UTC:20250212T123000
DTEND;TZID=UTC:20250212T133000
DTSTAMP:20260423T135719
CREATED:20250204T090832Z
LAST-MODIFIED:20250204T090943Z
UID:524-1739363400-1739367000@www.gpss.uw.edu
SUMMARY:Husky Lunch Network : First-Generation in Corporate America
DESCRIPTION:The UW can feel like a big place\, but it doesn’t have to be. Gather with UW students and alumni who share some of your experiences for free lunch and conversation with alumni. On the menu? Opportunities to explore how embracing your personal identities influences your professional journey. \n— Chad Bates\, ’14\, Owner\, Managing Humans LLC\n— Clarissa Boediarto\, ’11\, Drug Safety Vendor Lead\, Genentech\n— Anthony Braekevelt\, ’11\, Manager of Design Safety Engineering\, Boeing\n— Michaela Gormley\, ’09\, Client Sales Executive\n— Alva He\, ’18\, Career Launch Manager in Workforce Development\, Edmonds College\n— Ted Jordan\, ’89\, Global Program Manager\, Microsoft\n— Janet Phan\, ’09\, ’13\, Senior Technical Program Manager\, Amazon Kuiper & Founder and Executive Director\, Thriving Elements \nAll lunches take place 12:30–1:30 p.m. and will be held at various spots around campus. Food will be provided. \nStudent sign ups open now!
URL:https://www.gpss.uw.edu/event/husky-lunch-network-first-generation-in-corporate-america/
END:VEVENT
END:VCALENDAR